BEGIN:VCALENDAR
VERSION:2.0
PRODID:-//Library Market//iCal Export//EN
BEGIN:VEVENT
SUMMARY:Community Outreach: Richmond Towers
UID:17223
DTSTAMP:20260421T083700Z
DTSTART:20251218T170000Z
DTEND:20251218T190000Z
LOCATION:Richmond Towers, 510 E. Front St, Plainfield, NJ 07060, United St
 ates
ROOM: Community Outreach: Richmond Towers
DESCRIPTION:
URL:https://plainfieldnj.librarycalendar.com/event/community-outreach-rich
 mond-towers-17223
END:VEVENT
END:VCALENDAR
